BEGIN:VCALENDAR
VERSION:2.0
PRODID:https://www.geopark-ries.de/
X-PUBLISHED-TTL:P1D
BEGIN:VEVENT
UID:69e581479531d
DTSTART:20260808T150000Z
SEQUENCE:0
TRANSP:OPAQUE
DTEND:20260808T170000Z
URL:https://www.geopark-ries.de/veranstaltungen/abendfuehrung_durch_das_erl
 ebn-704753/
LOCATION:Erlebnis-Geotop Lindle - Nördlingen
SUMMARY:Abendführung durch das Erlebnis-Geotop Lindle
DTSTAMP:20260420T032839Z
END:VEVENT
END:VCALENDAR