BEGIN:VCALENDAR
VERSION:2.0
PRODID:https://www.geopark-ries.de/
X-PUBLISHED-TTL:P1D
BEGIN:VEVENT
UID:69e5a1a75d6f2
DTSTART:20260531T120000Z
SEQUENCE:0
TRANSP:OPAQUE
DTEND:20260531T140000Z
URL:https://www.geopark-ries.de/veranstaltungen/auf_schatzsuche_am_goldberg
 _wo-704745/
LOCATION:Goldberg - Riesbürg
SUMMARY:Auf Schatzsuche am Goldberg (Woche der europäischen Geoparks)
DTSTAMP:20260420T054647Z
END:VEVENT
END:VCALENDAR