BEGIN:VCALENDAR
VERSION:2.0
PRODID:https://www.geopark-ries.de/
X-PUBLISHED-TTL:P1D
BEGIN:VEVENT
UID:69e56903cb4a5
DTSTART:20261010T120000Z
SEQUENCE:0
TRANSP:OPAQUE
DTEND:20261010T143000Z
URL:https://www.geopark-ries.de/veranstaltungen/erlebnisfuehrung_durch_das_
 sch-661467-12587365/
LOCATION:- Veranstaltung ohne festen Ort - Huisheim
SUMMARY:Erlebnisführung durch das Schwalbtal
DTSTAMP:20260420T014507Z
END:VEVENT
END:VCALENDAR