BEGIN:VCALENDAR
VERSION:2.0
PRODID:https://www.geopark-ries.de/
X-PUBLISHED-TTL:P1D
BEGIN:VEVENT
UID:69e5963e973ca
DTSTART:20261004T120000Z
SEQUENCE:0
TRANSP:OPAQUE
DTEND:20261004T143000Z
URL:https://www.geopark-ries.de/veranstaltungen/fuehrung_am_huisheimer_maeh
 hor-661465/
LOCATION:- Veranstaltung ohne festen Ort - Huisheim
SUMMARY:Führung am Huisheimer Mähhorn und zur Gosburg
DESCRIPTION:Natur und Geschichte
DTSTAMP:20260420T045806Z
END:VEVENT
END:VCALENDAR