BEGIN:VCALENDAR
VERSION:2.0
PRODID:https://www.geopark-ries.de/
X-PUBLISHED-TTL:P1D
BEGIN:VEVENT
UID:69e5ef0c55d24
DTSTART:20260614T160000Z
SEQUENCE:0
TRANSP:OPAQUE
DTEND:20260614T183000Z
URL:https://www.geopark-ries.de/veranstaltungen/fuehrung_ins_kohlenbachtal_
 und-661475-12587373/
LOCATION:- Veranstaltung ohne festen Ort - Huisheim
SUMMARY:Führung ins Kohlenbachtal und auf dem Sonderhof \"Rosenhof\"
DESCRIPTION:Ein Naturerlebnis der beonderen Art
DTSTAMP:20260420T111700Z
END:VEVENT
END:VCALENDAR