BEGIN:VCALENDAR
VERSION:2.0
PRODID:https://www.geopark-ries.de/
X-PUBLISHED-TTL:P1D
BEGIN:VEVENT
UID:69e516f314537
DTSTART;VALUE=DATE:20220101
SEQUENCE:0
TRANSP:OPAQUE
DTEND;VALUE=DATE:20280101
URL:https://www.geopark-ries.de/veranstaltungen/gelaendepraktika_im_geopark
 _ri-201452/
LOCATION:- Veranstaltung ohne festen Ort - Geopark Ries
SUMMARY:Geländepraktika im Geopark Ries
X-MICROSOFT-CDO-ALLDAYEVENT:TRUE
DTSTAMP:20260419T195459Z
END:VEVENT
END:VCALENDAR