BEGIN:VCALENDAR
VERSION:2.0
PRODID:https://www.geopark-ries.de/
X-PUBLISHED-TTL:P1D
BEGIN:VEVENT
UID:69e5e615be2f3
DTSTART:20260426T103000Z
SEQUENCE:0
TRANSP:OPAQUE
DTEND:20260426T143000Z
URL:https://www.geopark-ries.de/veranstaltungen/mit_dem_rad_die_schoensten_
 aus-766585-12662937/
LOCATION:Marktplatz - Oettingen i.Bay.
SUMMARY:Mit dem Rad die schönsten Aussichtspunkte im Nordries erleben.
DESCRIPTION:Sportliche Radtour über die Hügelkette des Nordrieses von Hai
 nsfarth bis Maihingen
DTSTAMP:20260420T103845Z
END:VEVENT
END:VCALENDAR