BEGIN:VCALENDAR
VERSION:2.0
PRODID:https://www.geopark-ries.de/
X-PUBLISHED-TTL:P1D
BEGIN:VEVENT
UID:69e54f2d7444d
DTSTART:20260425T133000Z
SEQUENCE:0
TRANSP:OPAQUE
DTEND:20260425T143000Z
URL:https://www.geopark-ries.de/veranstaltungen/riesgeologie_in_nur_einer_s
 tun-530237-12681715/
LOCATION:Parkplatz bei der Tennisanlage Marienhöhe - Nördlingen
SUMMARY:Riesgeologie in nur einer Stunde
DESCRIPTION:auf der Nördlinger Marienhöhe
DTSTAMP:20260419T235453Z
END:VEVENT
END:VCALENDAR