BEGIN:VCALENDAR
VERSION:2.0
PRODID:https://www.geopark-ries.de/
X-PUBLISHED-TTL:P1D
BEGIN:VEVENT
UID:69e64097efe66
DTSTART:20261003T120000Z
SEQUENCE:0
TRANSP:OPAQUE
DTEND:20261003T140000Z
URL:https://www.geopark-ries.de/veranstaltungen/sagenhafter_wennenberg-gesc
 hic-704767/
LOCATION:Wennenberg - Alerheim
SUMMARY:Sagenhafter Wennenberg - Geschichte und Geschichten erleben!
DESCRIPTION:Zum Tag der Geodiversität
DTSTAMP:20260420T170456Z
END:VEVENT
END:VCALENDAR