BEGIN:VCALENDAR
VERSION:2.0
PRODID:https://www.geopark-ries.de/
X-PUBLISHED-TTL:P1D
BEGIN:VEVENT
UID:69e5468827b59
DTSTART;VALUE=DATE:20230101
SEQUENCE:0
TRANSP:OPAQUE
DTEND;VALUE=DATE:20280101
URL:https://www.geopark-ries.de/veranstaltungen/schatztruhe_goldberg_gold_o
 der-201516/
LOCATION:Parkplatz am Goldberg - Riesbürg
SUMMARY:Schatztruhe Goldberg:  Gold – oder doch ganz andere Schätze?
DESCRIPTION:Führung 18
X-MICROSOFT-CDO-ALLDAYEVENT:TRUE
DTSTAMP:20260419T231800Z
END:VEVENT
END:VCALENDAR