BEGIN:VCALENDAR
VERSION:2.0
PRODID:https://www.geopark-ries.de/
X-PUBLISHED-TTL:P1D
BEGIN:VEVENT
UID:69e5476bde0a4
DTSTART;VALUE=DATE:20220101
SEQUENCE:0
TRANSP:OPAQUE
DTEND;VALUE=DATE:20280101
URL:https://www.geopark-ries.de/veranstaltungen/schoenste_geotope_bayerns_i
 m_m-201568/
LOCATION:- Veranstaltung ohne festen Ort - Geopark Ries
SUMMARY:„Schönste Geotope Bayerns“ im  Meteoritenkrater Ries
X-MICROSOFT-CDO-ALLDAYEVENT:TRUE
DTSTAMP:20260419T232147Z
END:VEVENT
END:VCALENDAR