BEGIN:VCALENDAR
VERSION:2.0
PRODID:https://www.geopark-ries.de/
X-PUBLISHED-TTL:P1D
BEGIN:VEVENT
UID:69e546bea7d66
DTSTART;VALUE=DATE:20220101
SEQUENCE:0
TRANSP:OPAQUE
DTEND;VALUE=DATE:20280101
URL:https://www.geopark-ries.de/veranstaltungen/wallersteiner_impressionen_
 dur-201544/
LOCATION:Vorplatz des Fürstin Wilhelmine Alten- und Pflegeheim - Wallerste
 in
SUMMARY:Wallersteiner Impressionen – durch den  Markt Wallerstein auf den
  Felsen
X-MICROSOFT-CDO-ALLDAYEVENT:TRUE
DTSTAMP:20260419T231854Z
END:VEVENT
END:VCALENDAR